BEGIN:VCALENDAR
VERSION:2.0
PRODID:-//TOCNM - ECPv6.15.20//NONSGML v1.0//EN
CALSCALE:GREGORIAN
METHOD:PUBLISH
X-WR-CALNAME:TOCNM
X-ORIGINAL-URL:https://www.tocnm.org
X-WR-CALDESC:Events for TOCNM
REFRESH-INTERVAL;VALUE=DURATION:PT1H
X-Robots-Tag:noindex
X-PUBLISHED-TTL:PT1H
BEGIN:VTIMEZONE
TZID:America/Denver
BEGIN:DAYLIGHT
TZOFFSETFROM:-0700
TZOFFSETTO:-0600
TZNAME:MDT
DTSTART:20240310T090000
END:DAYLIGHT
BEGIN:STANDARD
TZOFFSETFROM:-0600
TZOFFSETTO:-0700
TZNAME:MST
DTSTART:20241103T080000
END:STANDARD
BEGIN:DAYLIGHT
TZOFFSETFROM:-0700
TZOFFSETTO:-0600
TZNAME:MDT
DTSTART:20250309T090000
END:DAYLIGHT
BEGIN:STANDARD
TZOFFSETFROM:-0600
TZOFFSETTO:-0700
TZNAME:MST
DTSTART:20251102T080000
END:STANDARD
BEGIN:DAYLIGHT
TZOFFSETFROM:-0700
TZOFFSETTO:-0600
TZNAME:MDT
DTSTART:20260308T090000
END:DAYLIGHT
BEGIN:STANDARD
TZOFFSETFROM:-0600
TZOFFSETTO:-0700
TZNAME:MST
DTSTART:20261101T080000
END:STANDARD
END:VTIMEZONE
BEGIN:VEVENT
DTSTART;TZID=America/Denver:20250531T090000
DTEND;TZID=America/Denver:20250531T170000
DTSTAMP:20260420T201047
CREATED:20250515T164908Z
LAST-MODIFIED:20250519T175049Z
UID:5101-1748682000-1748710800@www.tocnm.org
SUMMARY:TOCNM Road Rally to Salinas Pueblo Missions Ruins\, Mountainair and Tijeras Pueblo Ruins Updated Itinerary\, May 19
DESCRIPTION:You need to be logged in to view this content. Please Log In. Not a Member? Join Us
URL:https://www.tocnm.org/events/tocnm-road-rally-to-salina-pueblo-ruins-mountainair-and-historic-harvey-house/
END:VEVENT
END:VCALENDAR