BEGIN:VCALENDAR
VERSION:2.0
PRODID:-//TOCNM - ECPv6.15.20//NONSGML v1.0//EN
CALSCALE:GREGORIAN
METHOD:PUBLISH
X-ORIGINAL-URL:https://www.tocnm.org
X-WR-CALDESC:Events for TOCNM
REFRESH-INTERVAL;VALUE=DURATION:PT1H
X-Robots-Tag:noindex
X-PUBLISHED-TTL:PT1H
BEGIN:VTIMEZONE
TZID:America/Denver
BEGIN:DAYLIGHT
TZOFFSETFROM:-0700
TZOFFSETTO:-0600
TZNAME:MDT
DTSTART:20220313T090000
END:DAYLIGHT
BEGIN:STANDARD
TZOFFSETFROM:-0600
TZOFFSETTO:-0700
TZNAME:MST
DTSTART:20221106T080000
END:STANDARD
BEGIN:DAYLIGHT
TZOFFSETFROM:-0700
TZOFFSETTO:-0600
TZNAME:MDT
DTSTART:20230312T090000
END:DAYLIGHT
BEGIN:STANDARD
TZOFFSETFROM:-0600
TZOFFSETTO:-0700
TZNAME:MST
DTSTART:20231105T080000
END:STANDARD
BEGIN:DAYLIGHT
TZOFFSETFROM:-0700
TZOFFSETTO:-0600
TZNAME:MDT
DTSTART:20240310T090000
END:DAYLIGHT
BEGIN:STANDARD
TZOFFSETFROM:-0600
TZOFFSETTO:-0700
TZNAME:MST
DTSTART:20241103T080000
END:STANDARD
END:VTIMEZONE
BEGIN:VEVENT
DTSTART;TZID=America/Denver:20230917T190000
DTEND;TZID=America/Denver:20230917T203000
DTSTAMP:20260420T060636
CREATED:20230826T153956Z
LAST-MODIFIED:20230910T210455Z
UID:2545-1694977200-1694982600@www.tocnm.org
SUMMARY:TOCNM Zoom Meeting
DESCRIPTION:Tesla Owners Club of New Mexico Zoom Meeting online on September 17\, 2023 at 7:00 PM. We will have John Williamson from PNM’s Transportation Electricfication Group discuss their efforts to adopt and foster the adoption of EV’s. He will describe their new much lower rate program for EV owners and how to sign up for it. We will also be discussing everything Tesla including the imminent deliveries of the CyberTruck.  \n\n\n\nPlease post comments or questions that you would like to discuss at the meeting. RSVP here and we will send you a Zoom link prior to the meeting. See you there! \n\n\n\nHere is the Zoom link for this meeting  (only members can see the link) \n\n\nThis content is for members only.
URL:https://www.tocnm.org/events/tesla-owners-club-of-new-mexico-zoom-meeting/
LOCATION:New Mexico
END:VEVENT
BEGIN:VEVENT
DTSTART;TZID=America/Denver:20230916T120000
DTEND;TZID=America/Denver:20230916T133000
DTSTAMP:20260420T060636
CREATED:20230826T153517Z
LAST-MODIFIED:20230908T191129Z
UID:2543-1694865600-1694871000@www.tocnm.org
SUMMARY:TOCNM In Person Meeting (Please RSVP)
DESCRIPTION:Tesla Owners Club of New Mexico In Person Meeting at Gabriel’s Restaurant in Santa Fe on September 16\, 2023 at High Noon. We will be have John Williamson from PNM’s Transportation Electricfication Group discuss their efforts to adopt and foster the adoption of EV’s. He will describe their new much lower rate program for EV owners and how to sign up for it. We will also be discussing everything Tesla including the imminent deliveries of the CyberTruck.  \n\n\n\nPlease post comments or questions that you would like to discuss at the meeting. RSVP here only. See you there!
URL:https://www.tocnm.org/events/tesla-owners-club-of-new-mexico-in-person-meeting/
LOCATION:Gabriel’s Restaurant\, 4 Banana Lane\, Santa Fe\, New Mexico\, 87506\, United States
END:VEVENT
BEGIN:VEVENT
DTSTART;TZID=America/Denver:20230812T123000
DTEND;TZID=America/Denver:20230812T170000
DTSTAMP:20260420T060636
CREATED:20230707T173004Z
LAST-MODIFIED:20240201T200934Z
UID:2469-1691843400-1691859600@www.tocnm.org
SUMMARY:Spaceport America Tour
DESCRIPTION:Currently fully booked.  Use comments to get on a waiting list.\n\n\n\nSee Comments for Attendees’ Information\n\n\n\n\n\n\n\nVISIT SPACEPORT AMERICA.  This event for our club members is a tour by Final Frontier Tours and will begin at 12:30 PM on Saturday\, August 12 at the Spaceport America visitor center at 301 S. Foch St. in TorC.  We have reserved 13 seats for this tour on a first come basis.  Please book your seat or seats directly with the tour operator BEFORE August 5th. Then\, after you book\, RSVP to the event.  Your RSVP for this event indicates to us:1.) That you have booked with the tour operator.2.) That you will show up and you will have cash or a check to pay the tour operator. 3.) If you change your mind YOU WILL INFORM the tour operator and also update your Event RSVP to ‘Not Going’ and notify Mark or Dennis.  We will need to find replacements because the club is responsible to fill at least 8 seats and is liable for no-shows. No-shows resulting in cancelation of the tour may be suspended from our membership.To book the tour CALL FINAL FRONTIER TOURS AT (575) 267-8888 OR EMAIL: CR@FINALFRONTIERTOUR.COM. You must indicate that you are a member of the Tesla Owners Club of New Mexico\, how many are in your party\, their names\,  and other information required by the tour operator.  The cost per person is  $55.33 for adults and and $33.20 for children 12 years old or younger. Payment can be paid with cash or check only to the tour operator when you arrive (they do not take credit cards).  The normal tour includes transportation from TorC to the site and a drive through the facility. It does not include a visit inside buildings or a view of the aircraft. However\, we have made special arrangements to augment the tour.   \n\n\n\nSpecial tour – a TOCNM Member benefit:  The TOCNM Final Frontier Tour may be augmented by a personalized tour inside a part of the facility by an employee of Virgin Galactic who is a relative of our President Mark Hawes. The inside tour may or may not occur depending on activities at the site. There will be no charge for the inside tour.IMPORTANT: Adults and children can sign up for and join the Final Frontier tour and the Virgin Galactic Facility Tour. For the facility tour persons 18 or older will have to show a valid US passport or a valid photo ID and a birth certificate showing they were born in the US. Persons under 18 must be accompanied by a parent or guardian who satisfies the above requirement. If members of your party do not meet these conditions\, they will stay with the the tour operator in a comfortable location while the facility tour is taking place. Keep this in mind before you book the tour with the tour operator. An RSVP to the event means you booked with the tour operator\, that you agree to show up and pay for the tour and you understand the conditions to join the inside tour if it occurs. TOCNM will not book your reservation with the tour operator nor will the club be be responsible for no-shows.  If you book with the tour operator and do not show you will be responsible for any charges by the tour company. \n\n\n\nWe will add more details in the comments as the date approaches.
URL:https://www.tocnm.org/events/spaceport-new-mexico-tour/
LOCATION:New Mexico
END:VEVENT
BEGIN:VEVENT
DTSTART;TZID=America/Denver:20230629T070000
DTEND;TZID=America/Denver:20230629T110000
DTSTAMP:20260420T060636
CREATED:20230608T224348Z
LAST-MODIFIED:20230626T174722Z
UID:2176-1688022000-1688036400@www.tocnm.org
SUMMARY:June Road Rally to Spaceport America to See Space Craft Launch and Landing
DESCRIPTION:June 26 Update: Date is now Thursday June 29 at 7:00 AM at the T or C Supercharger. See updates on where to stay and where we will meet for dinner  the evening before by RSVP for the event. See you there! \n\n\n\nJune 19 Update: The dates and time have changed to June 27 to 29 at 7:00 AM at the Truth or Consequences Supercharger so we can drive out to the Spaceport by 8:00 AM. This means that it can happen on any single date from June 27 to June 29. This is due to the fact that it is a spaceflight and it can be delayed because of unforeseen circumstances.  \n\n\n\nI will give updates as they become available on this website only. If you have not RSVP’d there please do so. This does require that you are a Tesla Owners Club of New Mexico member.  You can get 4 free months of membership for signing up. You do need to create an account with a valid email and phone number. If you want to pay\, you can do it through PayPal or send a check to our PO Box listed on the site. We will only communicate through the website through posts or comments or emails but will not contact you by phone or paper mail. Please stay tuned to the website for updates! \n\n\n\nJune Road Rally is to Spaceport America to see a takeoff and landing of a Virgin Galactic Space Ship. If members who want to drive from Albuquerque or Santa Fe to the Spaceport that day they should leave at 4:00 or 5:00 AM. Launch is expected to take place after 9:00 AM and landing about 10:30 AM.  \n\n\n\nThis event will be witnessed by the club in the parking lot outside of the facility where we can see the runway where the plane with the space craft will take off\, see the space craft fire up and take off and then see the space craft fly over the Spaceport several times before landing.  Exciting!! \n\n\n\nThe alternative to driving the long distance is to stay overnight in Truth or Consequences with a 30 minute drive to the site. Please RSVP.  See you there. More information to follow.
URL:https://www.tocnm.org/events/june-road-rally-to-spaceport-america-to-see-space-craft-launch-and-landing/
LOCATION:Spaceport America\, Co Rd A021\, Truth or Consequences\, New Mexico\, 87901\, United States
END:VEVENT
BEGIN:VEVENT
DTSTART;TZID=America/Denver:20230625T190000
DTEND;TZID=America/Denver:20230625T200000
DTSTAMP:20260420T060636
CREATED:20230608T215230Z
LAST-MODIFIED:20230624T001325Z
UID:2173-1687719600-1687723200@www.tocnm.org
SUMMARY:Zoom Meeting for June 2023
DESCRIPTION:Tesla Owners Club of New Mexico Zoom Meeting for June is on Sunday\, June 25\, 7:00 PM. It should be exciting discussing Teslas and the new Tesla Service Center at the Santa Ana Pueblo just outside of Albuquerque. See you there!! 
URL:https://www.tocnm.org/events/zoom-meeting-for-june/
LOCATION:New Mexico
END:VEVENT
BEGIN:VEVENT
DTSTART;TZID=America/Denver:20230624T100000
DTEND;TZID=America/Denver:20230624T113000
DTSTAMP:20260420T060636
CREATED:20230608T205015Z
LAST-MODIFIED:20230624T001404Z
UID:2164-1687600800-1687606200@www.tocnm.org
SUMMARY:In Person Meeting for June 2023
DESCRIPTION:Tesla Owners Club of New Mexico In Person Meeting for June is a Brunch at 10:00 AM at the Range Cafe in Bernalillo north of Albuquerque.  \n\n\n\nWe have an update on the Tesla Service Center at Santa Ana Pueblo outside Bernalillo. In addition to touring the new facility\, Tesla will have the new 2023 Models S 3 X Y cars to test drive with the S and X updated interiors as well as the yoke steering and rear seat screens. \n\n\n\nModel 3 Standard Range Inventory cars selling for $30K with the federal tax credit are going to be delivered on Saturday possibly before or while we are there. These very affordable cars are their lowest price cars. If you or your friends who you can invite are interested please come to the brunch or meet us at the Tesla Service Center at 11:30 AM. \n\n\n\nJoin TOCNM at this In Person Meeting for brunch at 10:00 AM at the Range Cafe in Bernalillo north of Albuquerque. It should be exciting discussing Teslas and the new Tesla Service Center just up the road. Afterwards we will drive up to the new center to see it. Please RSVP. See you there!! 
URL:https://www.tocnm.org/events/in-person-meeting-for-june/
LOCATION:Range Cafe Bernalillo\, 925 S Camino Del Pueblo\, Bernalillo\, New Mexico\, 87004\, United States
END:VEVENT
BEGIN:VEVENT
DTSTART;TZID=America/Denver:20230602T090000
DTEND;TZID=America/Denver:20230602T120000
DTSTAMP:20260420T060636
CREATED:20230524T150313Z
LAST-MODIFIED:20230525T171713Z
UID:2083-1685696400-1685707200@www.tocnm.org
SUMMARY:Santa Ana Service Center Tour
DESCRIPTION:This event is on June 2 at 9:00 AM MDT.  This is an Open House for the Tesla Owners of New Mexico where we will tour the new large Tesla Service Center north of Albuquerque at the Santa Ana Pueblo!! It will be exciting!  \n\n\n\nLocation: 54 Jemez Canyon Dam Rd\, Bernalillo\, NM 87004. \n\n\n\nWe will try to add a map soon. Check back in a few days. \n\n\n\nFor more information (Oct. 7\, 2022 news release)\,  Click Here.   \n\n\n\nThis event is sponsored by the Tesla Owners Club of New Mexico and is open to Tesla owners in New Mexico.  This is the first event we have announced on our new website and we would prefer you RSVP to this event here (as well as on Meetup).  This will allow us to evaluate how events RSVPs (and eventually tickets) will work in the future.  Eventually we may use Meetup for public events only. Please note this event is on June 2 at 9:00 AM MDT. Stay tuned for any additional details or updates.
URL:https://www.tocnm.org/events/service-center-tour/
LOCATION:Santa Ana Tesla Service Center
END:VEVENT
BEGIN:VEVENT
DTSTART;TZID=America/Denver:20230504T190000
DTEND;TZID=America/Denver:20230504T200000
DTSTAMP:20260420T060636
CREATED:20230504T181450Z
LAST-MODIFIED:20230908T134813Z
UID:1785-1683226800-1683230400@www.tocnm.org
SUMMARY:Member Zoom Meeting
DESCRIPTION:Event for members only \n\n\n\nThis is a special board meeting with only current members invited.  \n\n\n\n\n\n\n\nPurpose is to elect a new board member.  You should have an email with the details.Dennis Added this text to do tests on public versus restricted events.The text is to make the post longer to see if that effects what the public sees. \n\n\n\nThis is a new block   will test to see if public sees this
URL:https://www.tocnm.org/events/member-zoom-meeting/
LOCATION:New Mexico
END:VEVENT
END:VCALENDAR