BEGIN:VCALENDAR
VERSION:2.0
PRODID:-//TOCNM - ECPv6.15.20//NONSGML v1.0//EN
CALSCALE:GREGORIAN
METHOD:PUBLISH
X-WR-CALNAME:TOCNM
X-ORIGINAL-URL:https://www.tocnm.org
X-WR-CALDESC:Events for TOCNM
REFRESH-INTERVAL;VALUE=DURATION:PT1H
X-Robots-Tag:noindex
X-PUBLISHED-TTL:PT1H
BEGIN:VTIMEZONE
TZID:America/Denver
BEGIN:DAYLIGHT
TZOFFSETFROM:-0700
TZOFFSETTO:-0600
TZNAME:MDT
DTSTART:20220313T090000
END:DAYLIGHT
BEGIN:STANDARD
TZOFFSETFROM:-0600
TZOFFSETTO:-0700
TZNAME:MST
DTSTART:20221106T080000
END:STANDARD
BEGIN:DAYLIGHT
TZOFFSETFROM:-0700
TZOFFSETTO:-0600
TZNAME:MDT
DTSTART:20230312T090000
END:DAYLIGHT
BEGIN:STANDARD
TZOFFSETFROM:-0600
TZOFFSETTO:-0700
TZNAME:MST
DTSTART:20231105T080000
END:STANDARD
BEGIN:DAYLIGHT
TZOFFSETFROM:-0700
TZOFFSETTO:-0600
TZNAME:MDT
DTSTART:20240310T090000
END:DAYLIGHT
BEGIN:STANDARD
TZOFFSETFROM:-0600
TZOFFSETTO:-0700
TZNAME:MST
DTSTART:20241103T080000
END:STANDARD
END:VTIMEZONE
BEGIN:VEVENT
DTSTART;TZID=America/Denver:20230504T190000
DTEND;TZID=America/Denver:20230504T200000
DTSTAMP:20260420T232727
CREATED:20230504T181450Z
LAST-MODIFIED:20230908T134813Z
UID:1785-1683226800-1683230400@www.tocnm.org
SUMMARY:Member Zoom Meeting
DESCRIPTION:Event for members only \n\n\n\nThis is a special board meeting with only current members invited.  \n\n\n\n\n\n\n\nPurpose is to elect a new board member.  You should have an email with the details.Dennis Added this text to do tests on public versus restricted events.The text is to make the post longer to see if that effects what the public sees. \n\n\n\nThis is a new block   will test to see if public sees this
URL:https://www.tocnm.org/events/member-zoom-meeting/
LOCATION:New Mexico
END:VEVENT
END:VCALENDAR