BEGIN:VCALENDAR
VERSION:2.0
PRODID:-//TOCNM - ECPv6.15.20//NONSGML v1.0//EN
CALSCALE:GREGORIAN
METHOD:PUBLISH
X-ORIGINAL-URL:https://www.tocnm.org
X-WR-CALDESC:Events for TOCNM
REFRESH-INTERVAL;VALUE=DURATION:PT1H
X-Robots-Tag:noindex
X-PUBLISHED-TTL:PT1H
BEGIN:VTIMEZONE
TZID:America/Denver
BEGIN:DAYLIGHT
TZOFFSETFROM:-0700
TZOFFSETTO:-0600
TZNAME:MDT
DTSTART:20250309T090000
END:DAYLIGHT
BEGIN:STANDARD
TZOFFSETFROM:-0600
TZOFFSETTO:-0700
TZNAME:MST
DTSTART:20251102T080000
END:STANDARD
BEGIN:DAYLIGHT
TZOFFSETFROM:-0700
TZOFFSETTO:-0600
TZNAME:MDT
DTSTART:20260308T090000
END:DAYLIGHT
BEGIN:STANDARD
TZOFFSETFROM:-0600
TZOFFSETTO:-0700
TZNAME:MST
DTSTART:20261101T080000
END:STANDARD
BEGIN:DAYLIGHT
TZOFFSETFROM:-0700
TZOFFSETTO:-0600
TZNAME:MDT
DTSTART:20270314T090000
END:DAYLIGHT
BEGIN:STANDARD
TZOFFSETFROM:-0600
TZOFFSETTO:-0700
TZNAME:MST
DTSTART:20271107T080000
END:STANDARD
END:VTIMEZONE
BEGIN:VEVENT
DTSTART;TZID=America/Denver:20260314T090000
DTEND;TZID=America/Denver:20260314T170000
DTSTAMP:20260420T231759
CREATED:20260211T195259Z
LAST-MODIFIED:20260211T195300Z
UID:5815-1773478800-1773507600@www.tocnm.org
SUMMARY:TOCNM Road Rally to Abiquiu Georgia O'Keeffe House and Ghost Ranch
DESCRIPTION:You need to be logged in to view this content. Please Log In. Not a Member? Join Us
URL:https://www.tocnm.org/events/tocnm-road-rally-to-abiquiu-georgia-okeeffe-house-and-ghost-ranch/
END:VEVENT
BEGIN:VEVENT
DTSTART;TZID=America/Denver:20260414T190000
DTEND;TZID=America/Denver:20260414T200000
DTSTAMP:20260420T231759
CREATED:20260310T171347Z
LAST-MODIFIED:20260310T171349Z
UID:5838-1776193200-1776196800@www.tocnm.org
SUMMARY:2026 TOCNM Annual Board of Directors Meeting
DESCRIPTION:You need to be logged in to view this content. Please Log In. Not a Member? Join Us
URL:https://www.tocnm.org/events/2026-tocnm-annual-board-of-directors-meeting/
END:VEVENT
END:VCALENDAR